BEGIN:VCALENDAR
VERSION:2.0
PRODID:-//Lalia Flamenco - ECPv6.15.18//NONSGML v1.0//EN
CALSCALE:GREGORIAN
METHOD:PUBLISH
X-ORIGINAL-URL:https://laliaflamenco.com
X-WR-CALDESC:Eventos para Lalia Flamenco
REFRESH-INTERVAL;VALUE=DURATION:PT1H
X-Robots-Tag:noindex
X-PUBLISHED-TTL:PT1H
BEGIN:VTIMEZONE
TZID:Europe/Madrid
BEGIN:DAYLIGHT
TZOFFSETFROM:+0100
TZOFFSETTO:+0200
TZNAME:CEST
DTSTART:20160327T010000
END:DAYLIGHT
BEGIN:STANDARD
TZOFFSETFROM:+0200
TZOFFSETTO:+0100
TZNAME:CET
DTSTART:20161030T010000
END:STANDARD
BEGIN:DAYLIGHT
TZOFFSETFROM:+0100
TZOFFSETTO:+0200
TZNAME:CEST
DTSTART:20170326T010000
END:DAYLIGHT
BEGIN:STANDARD
TZOFFSETFROM:+0200
TZOFFSETTO:+0100
TZNAME:CET
DTSTART:20171029T010000
END:STANDARD
BEGIN:DAYLIGHT
TZOFFSETFROM:+0100
TZOFFSETTO:+0200
TZNAME:CEST
DTSTART:20180325T010000
END:DAYLIGHT
BEGIN:STANDARD
TZOFFSETFROM:+0200
TZOFFSETTO:+0100
TZNAME:CET
DTSTART:20181028T010000
END:STANDARD
END:VTIMEZONE
BEGIN:VEVENT
DTSTART;TZID=Europe/Madrid:20170114T183000
DTEND;TZID=Europe/Madrid:20170114T230000
DTSTAMP:20260422T041616
CREATED:20190609T210505Z
LAST-MODIFIED:20190609T210505Z
UID:5452-1484418600-1484434800@laliaflamenco.com
SUMMARY:CADENA- Performance- MADRID
DESCRIPTION:
URL:https://laliaflamenco.com/evento/cadena-performance-madrid/
LOCATION:La Juan Gallery\, Madrid\, España
CATEGORIES:Presentación
ATTACH;FMTTYPE=image/jpeg:https://laliaflamenco.com/wp-content/uploads/2019/06/PicsArt_02-11-10.36.48.jpg
END:VEVENT
END:VCALENDAR