BEGIN:VCALENDAR
VERSION:2.0
PRODID:-//Lalia Flamenco - ECPv6.15.18//NONSGML v1.0//EN
CALSCALE:GREGORIAN
METHOD:PUBLISH
X-ORIGINAL-URL:https://laliaflamenco.com
X-WR-CALDESC:Eventos para Lalia Flamenco
REFRESH-INTERVAL;VALUE=DURATION:PT1H
X-Robots-Tag:noindex
X-PUBLISHED-TTL:PT1H
BEGIN:VTIMEZONE
TZID:Europe/Madrid
BEGIN:DAYLIGHT
TZOFFSETFROM:+0100
TZOFFSETTO:+0200
TZNAME:CEST
DTSTART:20140330T010000
END:DAYLIGHT
BEGIN:STANDARD
TZOFFSETFROM:+0200
TZOFFSETTO:+0100
TZNAME:CET
DTSTART:20141026T010000
END:STANDARD
BEGIN:DAYLIGHT
TZOFFSETFROM:+0100
TZOFFSETTO:+0200
TZNAME:CEST
DTSTART:20150329T010000
END:DAYLIGHT
BEGIN:STANDARD
TZOFFSETFROM:+0200
TZOFFSETTO:+0100
TZNAME:CET
DTSTART:20151025T010000
END:STANDARD
BEGIN:DAYLIGHT
TZOFFSETFROM:+0100
TZOFFSETTO:+0200
TZNAME:CEST
DTSTART:20160327T010000
END:DAYLIGHT
BEGIN:STANDARD
TZOFFSETFROM:+0200
TZOFFSETTO:+0100
TZNAME:CET
DTSTART:20161030T010000
END:STANDARD
BEGIN:DAYLIGHT
TZOFFSETFROM:+0100
TZOFFSETTO:+0200
TZNAME:CEST
DTSTART:20170326T010000
END:DAYLIGHT
BEGIN:STANDARD
TZOFFSETFROM:+0200
TZOFFSETTO:+0100
TZNAME:CET
DTSTART:20171029T010000
END:STANDARD
END:VTIMEZONE
BEGIN:VEVENT
DTSTART;TZID=Europe/Madrid:20160919T080000
DTEND;TZID=Europe/Madrid:20161030T170000
DTSTAMP:20260421T120606
CREATED:20190609T191320Z
LAST-MODIFIED:20190819T125823Z
UID:5379-1474272000-1477846800@laliaflamenco.com
SUMMARY:WORKSHOP-Estambul\, TURQUÍA
DESCRIPTION:https://www.youtube.com/watch?v=pUJFN8WNSs8
URL:https://laliaflamenco.com/evento/workshop-estambul-turquia/
LOCATION:Pera Sanatlar\, Estambul\, Turquía
CATEGORIES:Clases,Workshop
ATTACH;FMTTYPE=image/jpeg:https://laliaflamenco.com/wp-content/uploads/2019/06/14344212_10210721739462479_3018327017095431817_n.jpg
END:VEVENT
BEGIN:VEVENT
DTSTART;TZID=Europe/Madrid:20160430T080000
DTEND;TZID=Europe/Madrid:20160430T080000
DTSTAMP:20260421T120606
CREATED:20190609T191959Z
LAST-MODIFIED:20190819T125904Z
UID:5388-1462003200-1462003200@laliaflamenco.com
SUMMARY:TABLAO ENCUENTRO CREATIVO-Lima\, PERÚ
DESCRIPTION:https://www.youtube.com/watch?v=heZ9xNNILVI
URL:https://laliaflamenco.com/evento/tablao-encuentro-creativo-lima-peru/
LOCATION:La Tabla\, Lima\, Perú
CATEGORIES:Presentación
ATTACH;FMTTYPE=image/jpeg:https://laliaflamenco.com/wp-content/uploads/2019/06/14650234_342750499403632_4761871197085472045_n.jpg
END:VEVENT
BEGIN:VEVENT
DTSTART;TZID=Europe/Madrid:20160401T080000
DTEND;TZID=Europe/Madrid:20160531T170000
DTSTAMP:20260421T120606
CREATED:20190609T191738Z
LAST-MODIFIED:20190819T125959Z
UID:5383-1459497600-1464714000@laliaflamenco.com
SUMMARY:WORKSHOP Lima\, PERÚ
DESCRIPTION:
URL:https://laliaflamenco.com/evento/workshop-lima-peru/
LOCATION:Centro Andaluz del Perú\, Lima\, Perú
CATEGORIES:Workshop
ATTACH;FMTTYPE=image/jpeg:https://laliaflamenco.com/wp-content/uploads/2019/06/12963574_1083949188294061_8115100424456118691_n.jpg
END:VEVENT
BEGIN:VEVENT
DTSTART;TZID=Europe/Madrid:20150207T200000
DTEND;TZID=Europe/Madrid:20150207T220000
DTSTAMP:20260421T120606
CREATED:20190609T194249Z
LAST-MODIFIED:20190819T130159Z
UID:5407-1423339200-1423346400@laliaflamenco.com
SUMMARY:ENCUENTROS- eTerna Compañia Flamenca
DESCRIPTION:
URL:https://laliaflamenco.com/evento/encuentros-eterna-compania-flamenca/
LOCATION:Sala Tú\, Madrid\, España
CATEGORIES:Presentación
ATTACH;FMTTYPE=image/jpeg:https://laliaflamenco.com/wp-content/uploads/2019/06/IMG_6275.jpg
END:VEVENT
END:VCALENDAR